BEGIN:VCALENDAR
VERSION:2.0
PRODID:-//ChamberMaster//Event Calendar 2.0//EN
METHOD:PUBLISH
X-PUBLISHED-TTL:P1H
REFRESH-INTERVAL:P1H
CALSCALE:GREGORIAN
BEGIN:VTIMEZONE
TZID:America/Chicago
BEGIN:DAYLIGHT
RRULE:FREQ=YEARLY;BYMONTH=3;BYDAY=2SU
DTSTART:20070101T000000
TZOFFSETFROM:-0600
TZOFFSETTO:-0500
TZNAME:Central Daylight Time
END:DAYLIGHT
BEGIN:STANDARD
RRULE:FREQ=YEARLY;BYMONTH=11;BYDAY=1SU
DTSTART:20070101T000000
TZOFFSETFROM:-0500
TZOFFSETTO:-0600
TZNAME:Central Standard Time
END:STANDARD
END:VTIMEZONE
BEGIN:VEVENT
DTSTART;TZID=America/Chicago:20260602T170000
DTEND;TZID=America/Chicago:20260602T190000
X-MICROSOFT-CDO-ALLDAYEVENT:FALSE
SUMMARY:YPs vs PWB: Pins & Putts Showdown
DESCRIPTION:Join HMCBA's Young Professionals and Professional Women in Building for the Pins & Putts Showdown a fun\, laid-back evening of networking\, friendly competition\, and a little bit of bragging rights.Participants will test their skills in both duckpin bowling and putt-putt\, competing for top individual scores in each activity. Whether you're aiming for a perfect game or just hoping to sink a few putts\, this event is designed for all skill levels and a great way to connect with fellow members of the industry.Come ready to have fun\, make connections\, and see if you've got what it takes to come out on top!
X-ALT-DESC;FMTTYPE=text/html:<!DOCTYPE html><html><head><title></title></head><body aria-disabled="false" data-new-gr-c-s-loaded="14.1280.0" spellcheck="false"><p data-end="333" data-start="124">Join HMCBA&rsquo\;s Young Professionals and Professional Women in Building for the <em data-end="234" data-start="211">Pins &amp\; Putts Showdown</em>&mdash\;a fun\, laid-back evening of networking\, friendly competition\, and a little bit of bragging rights.</p><p data-end="648" data-start="335">Participants will test their skills in both duckpin bowling and putt-putt\, competing for top individual scores in each activity. Whether you&rsquo\;re aiming for a perfect game or just hoping to sink a few putts\, this event is designed for all skill levels and a great way to connect with fellow members of the industry.</p><p data-end="908" data-start="811">Come ready to have fun\, make connections\, and see if you&rsquo\;ve got what it takes to come out on top!</p></body></html>
LOCATION:6123 University Dr NW Unit 110 Huntsville AL 35806
UID:e.929.1433094
SEQUENCE:3
DTSTAMP:20260421T134650Z
URL:https://huntsvillemadisoncountyba.growthzoneapp.com/hmcbaboardmeetings/Details/yps-vs-pwb-pins-putts-showdown-1696339?sourceTypeId=Hub
END:VEVENT
END:VCALENDAR
