BEGIN:VCALENDAR
VERSION:2.0
PRODID:-//ChamberMaster//Event Calendar 2.0//EN
METHOD:PUBLISH
X-PUBLISHED-TTL:P1H
REFRESH-INTERVAL:P1H
CALSCALE:GREGORIAN
BEGIN:VTIMEZONE
TZID:America/Chicago
BEGIN:DAYLIGHT
RRULE:FREQ=YEARLY;BYMONTH=3;BYDAY=2SU
DTSTART:20070101T000000
TZOFFSETFROM:-0600
TZOFFSETTO:-0500
TZNAME:Central Daylight Time
END:DAYLIGHT
BEGIN:STANDARD
RRULE:FREQ=YEARLY;BYMONTH=11;BYDAY=1SU
DTSTART:20070101T000000
TZOFFSETFROM:-0500
TZOFFSETTO:-0600
TZNAME:Central Standard Time
END:STANDARD
END:VTIMEZONE
BEGIN:VEVENT
DTSTART;TZID=America/Chicago:20260416T093000
DTEND;TZID=America/Chicago:20260416T103000
X-MICROSOFT-CDO-ALLDAYEVENT:FALSE
SUMMARY:New Member Coffee April 16\, 2026
DESCRIPTION:Time: 9:30 AM   10:30 AM Location: HMCBA Office 2804 Bob Wallace Ave\, Huntsville\, AL 35805 We would like to have our newest HMCBA members come by the office to have FREE coffee and light refreshments with our President\, Michael McDaniel and Executive Officer\, Theresa Kennedy. This is the perfect opportunity to ask questions about your membership and how we can help you and your business get involved with the association. Please allow additional time afterwards to network with the other attendees. We can't wait to see you there! If you have any questions contact Kirsten Messer at 256-536-2602 or kirsten@hmcba.org
X-ALT-DESC;FMTTYPE=text/html:<!DOCTYPE html><html><head><title></title></head><body aria-disabled="false"><p>Time: 9:30 AM &ndash\; 10:30 AM Location: HMCBA Office 2804 Bob Wallace Ave\, Huntsville\, AL 35805 We would like to have our newest HMCBA members come by the office to have FREE coffee and light refreshments with our President\, Michael McDaniel and Executive Officer\, Theresa Kennedy. This is the perfect opportunity to ask questions about your membership and how we can help you and your business get involved with the association. Please allow additional time afterwards to network with the other attendees. We can&#39\;t wait to see you there! If you have any questions contact Kirsten Messer at 256-536-2602 or kirsten@hmcba.org</p></body></html>
LOCATION:2804 Bob Wallace Ave Huntsville AL 35805
UID:e.929.1353524
SEQUENCE:3
DTSTAMP:20260421T134736Z
URL:https://huntsvillemadisoncountyba.growthzoneapp.com/hmcbaboardmeetings/Details/new-member-coffee-april-16-2026-1592275?sourceTypeId=Hub
END:VEVENT
END:VCALENDAR
